BEGIN:VCALENDAR
VERSION:2.0
PRODID:-//Tukios.com/
BEGIN:VEVENT
UID:d946560a-5ffc-421d-b554-4554193ef8f3@www.scarpalasrosasfh.com
DTSTAMP:20260419T232451Z
DTSTART:20260424T180000Z
DTEND:20260425T000000Z
SUMMARY:Visitation
DESCRIPTION:
URL:https://www.scarpalasrosasfh.com/obituaries/maria-v-rosa
LOCATION: 22 Craig Place  North Plainfield NJ 07060
GEO:40.6191333;-74.4268005
END:VEVENT
END:VCALENDAR