BEGIN:VCALENDAR
VERSION:2.0
PRODID:-//Tukios.com/
BEGIN:VEVENT
UID:a80561e5-140c-4e6a-8015-cfff423a8d03@www.scarpalasrosasfh.com
DTSTAMP:20260419T232430Z
DTSTART:20260425T120000Z
DTEND:20260425T143000Z
SUMMARY:Funeral Service
DESCRIPTION:
URL:https://www.scarpalasrosasfh.com/obituaries/maria-v-rosa
LOCATION: 22 Craig Place  North Plainfield NJ 07060
GEO:40.6191333;-74.4268005
END:VEVENT
END:VCALENDAR