BEGIN:VCALENDAR
VERSION:2.0
PRODID:-//Tukios.com/
BEGIN:VEVENT
UID:b8e2608b-525a-4e67-998b-38acaf421751@www.scarpalasrosasfh.com
DTSTAMP:20260419T231858Z
DTSTART:20260425T161500Z
DTEND:20260425T164500Z
SUMMARY:Cremation
DESCRIPTION:
URL:https://www.scarpalasrosasfh.com/obituaries/maria-v-rosa
LOCATION: 792 East Edgar Road  Linden NJ 07036
GEO:40.6284095;-74.2340731
END:VEVENT
END:VCALENDAR